BEGIN:VCALENDAR
VERSION:2.0
PRODID:-//Osman Shriners - ECPv6.15.20//NONSGML v1.0//EN
CALSCALE:GREGORIAN
METHOD:PUBLISH
X-WR-CALNAME:Osman Shriners
X-ORIGINAL-URL:https://osmanshriners.org
X-WR-CALDESC:Events for Osman Shriners
REFRESH-INTERVAL;VALUE=DURATION:PT1H
X-Robots-Tag:noindex
X-PUBLISHED-TTL:PT1H
BEGIN:VTIMEZONE
TZID:America/Chicago
BEGIN:DAYLIGHT
TZOFFSETFROM:-0600
TZOFFSETTO:-0500
TZNAME:CDT
DTSTART:20230312T080000
END:DAYLIGHT
BEGIN:STANDARD
TZOFFSETFROM:-0500
TZOFFSETTO:-0600
TZNAME:CST
DTSTART:20231105T070000
END:STANDARD
BEGIN:DAYLIGHT
TZOFFSETFROM:-0600
TZOFFSETTO:-0500
TZNAME:CDT
DTSTART:20240310T080000
END:DAYLIGHT
BEGIN:STANDARD
TZOFFSETFROM:-0500
TZOFFSETTO:-0600
TZNAME:CST
DTSTART:20241103T070000
END:STANDARD
BEGIN:DAYLIGHT
TZOFFSETFROM:-0600
TZOFFSETTO:-0500
TZNAME:CDT
DTSTART:20250309T080000
END:DAYLIGHT
BEGIN:STANDARD
TZOFFSETFROM:-0500
TZOFFSETTO:-0600
TZNAME:CST
DTSTART:20251102T070000
END:STANDARD
END:VTIMEZONE
BEGIN:VEVENT
DTSTART;TZID=America/Chicago:20240831T100000
DTEND;TZID=America/Chicago:20240831T150000
DTSTAMP:20260421T185114
CREATED:20240729T012841Z
LAST-MODIFIED:20240729T012941Z
UID:10000388-1725098400-1725116400@osmanshriners.org
SUMMARY:Potentate's Picnic & Fishing
DESCRIPTION:Don’t miss IS Michael Meyer’s Potentate’s picnic on August 31st\, 2024\, at North Park Shelter 1 in Faribault\, MN\, from 10:00am – 3:00pm. Sponsored by Osman Sportsman’s Club and food provided by Osman Meat Mavericks (donation appreciated)\, you and your family will have access to food\, fun\, shelter\, fishing\, boating (boats wanted)\, and nearby aquatics for an additional fee of $7 (all day pass). This is a can’t miss event\, and you shouldn’t want to miss it. Hotels are available nearby for those who wish to stay over the night before or after. Bring your pole (fishing license may be required/not provided)\, your bathing suit\, your appetite and smile.
URL:https://osmanshriners.org/event/potentates-picnic-fishing/
LOCATION:North Alexander Park Shelter 1 Faribault MN\, 1816 2nd Ave NW\, Faribault\, MN\, 55021\, United States
ORGANIZER;CN="Osman Shriners":MAILTO:office@osmanshriners.org
END:VEVENT
END:VCALENDAR