BEGIN:VCALENDAR
VERSION:2.0
PRODID:-//Osman Shriners - ECPv6.15.20//NONSGML v1.0//EN
CALSCALE:GREGORIAN
METHOD:PUBLISH
X-ORIGINAL-URL:https://osmanshriners.org
X-WR-CALDESC:Events for Osman Shriners
REFRESH-INTERVAL;VALUE=DURATION:PT1H
X-Robots-Tag:noindex
X-PUBLISHED-TTL:PT1H
BEGIN:VTIMEZONE
TZID:America/Chicago
BEGIN:DAYLIGHT
TZOFFSETFROM:-0600
TZOFFSETTO:-0500
TZNAME:CDT
DTSTART:20280312T080000
END:DAYLIGHT
BEGIN:STANDARD
TZOFFSETFROM:-0500
TZOFFSETTO:-0600
TZNAME:CST
DTSTART:20281105T070000
END:STANDARD
BEGIN:DAYLIGHT
TZOFFSETFROM:-0600
TZOFFSETTO:-0500
TZNAME:CDT
DTSTART:20290311T080000
END:DAYLIGHT
BEGIN:STANDARD
TZOFFSETFROM:-0500
TZOFFSETTO:-0600
TZNAME:CST
DTSTART:20291104T070000
END:STANDARD
BEGIN:DAYLIGHT
TZOFFSETFROM:-0600
TZOFFSETTO:-0500
TZNAME:CDT
DTSTART:20300310T080000
END:DAYLIGHT
BEGIN:STANDARD
TZOFFSETFROM:-0500
TZOFFSETTO:-0600
TZNAME:CST
DTSTART:20301103T070000
END:STANDARD
BEGIN:DAYLIGHT
TZOFFSETFROM:-0600
TZOFFSETTO:-0500
TZNAME:CDT
DTSTART:20310309T080000
END:DAYLIGHT
BEGIN:STANDARD
TZOFFSETFROM:-0500
TZOFFSETTO:-0600
TZNAME:CST
DTSTART:20311102T070000
END:STANDARD
END:VTIMEZONE
BEGIN:VEVENT
DTSTART;TZID=America/Chicago:20290416T180000
DTEND;TZID=America/Chicago:20290416T190000
DTSTAMP:20260419T095531
CREATED:20250106T204809Z
LAST-MODIFIED:20250106T204918Z
UID:10000605-1871056800-1871060400@osmanshriners.org
SUMMARY:Sportsman's Club Membership Meeting
DESCRIPTION:Monthly meeting for the Sportsman’s Club at the VFW in Roseville\, Minnesota.
URL:https://osmanshriners.org/event/sportsmans-club-membership-meeting/2029-04-16/
LOCATION:VFW Roseville\, 1145 Woodhill Dr.\, Roseville\, MN\, 55113\, United States
END:VEVENT
BEGIN:VEVENT
DTSTART;TZID=America/Chicago:20290521T180000
DTEND;TZID=America/Chicago:20290521T190000
DTSTAMP:20260419T095531
CREATED:20250106T204809Z
LAST-MODIFIED:20250106T204918Z
UID:10000606-1874080800-1874084400@osmanshriners.org
SUMMARY:Sportsman's Club Membership Meeting
DESCRIPTION:Monthly meeting for the Sportsman’s Club at the VFW in Roseville\, Minnesota.
URL:https://osmanshriners.org/event/sportsmans-club-membership-meeting/2029-05-21/
LOCATION:VFW Roseville\, 1145 Woodhill Dr.\, Roseville\, MN\, 55113\, United States
END:VEVENT
BEGIN:VEVENT
DTSTART;TZID=America/Chicago:20290618T180000
DTEND;TZID=America/Chicago:20290618T190000
DTSTAMP:20260419T095531
CREATED:20250106T204809Z
LAST-MODIFIED:20250106T204918Z
UID:10000607-1876500000-1876503600@osmanshriners.org
SUMMARY:Sportsman's Club Membership Meeting
DESCRIPTION:Monthly meeting for the Sportsman’s Club at the VFW in Roseville\, Minnesota.
URL:https://osmanshriners.org/event/sportsmans-club-membership-meeting/2029-06-18/
LOCATION:VFW Roseville\, 1145 Woodhill Dr.\, Roseville\, MN\, 55113\, United States
END:VEVENT
BEGIN:VEVENT
DTSTART;TZID=America/Chicago:20290716T180000
DTEND;TZID=America/Chicago:20290716T190000
DTSTAMP:20260419T095531
CREATED:20250106T204809Z
LAST-MODIFIED:20250106T204918Z
UID:10000608-1878919200-1878922800@osmanshriners.org
SUMMARY:Sportsman's Club Membership Meeting
DESCRIPTION:Monthly meeting for the Sportsman’s Club at the VFW in Roseville\, Minnesota.
URL:https://osmanshriners.org/event/sportsmans-club-membership-meeting/2029-07-16/
LOCATION:VFW Roseville\, 1145 Woodhill Dr.\, Roseville\, MN\, 55113\, United States
END:VEVENT
BEGIN:VEVENT
DTSTART;TZID=America/Chicago:20290820T180000
DTEND;TZID=America/Chicago:20290820T190000
DTSTAMP:20260419T095531
CREATED:20250106T204809Z
LAST-MODIFIED:20250106T204918Z
UID:10000609-1881943200-1881946800@osmanshriners.org
SUMMARY:Sportsman's Club Membership Meeting
DESCRIPTION:Monthly meeting for the Sportsman’s Club at the VFW in Roseville\, Minnesota.
URL:https://osmanshriners.org/event/sportsmans-club-membership-meeting/2029-08-20/
LOCATION:VFW Roseville\, 1145 Woodhill Dr.\, Roseville\, MN\, 55113\, United States
END:VEVENT
BEGIN:VEVENT
DTSTART;TZID=America/Chicago:20290917T180000
DTEND;TZID=America/Chicago:20290917T190000
DTSTAMP:20260419T095531
CREATED:20250106T204809Z
LAST-MODIFIED:20250106T204918Z
UID:10000610-1884362400-1884366000@osmanshriners.org
SUMMARY:Sportsman's Club Membership Meeting
DESCRIPTION:Monthly meeting for the Sportsman’s Club at the VFW in Roseville\, Minnesota.
URL:https://osmanshriners.org/event/sportsmans-club-membership-meeting/2029-09-17/
LOCATION:VFW Roseville\, 1145 Woodhill Dr.\, Roseville\, MN\, 55113\, United States
END:VEVENT
BEGIN:VEVENT
DTSTART;TZID=America/Chicago:20291015T180000
DTEND;TZID=America/Chicago:20291015T190000
DTSTAMP:20260419T095531
CREATED:20250106T204809Z
LAST-MODIFIED:20250106T204918Z
UID:10000611-1886781600-1886785200@osmanshriners.org
SUMMARY:Sportsman's Club Membership Meeting
DESCRIPTION:Monthly meeting for the Sportsman’s Club at the VFW in Roseville\, Minnesota.
URL:https://osmanshriners.org/event/sportsmans-club-membership-meeting/2029-10-15/
LOCATION:VFW Roseville\, 1145 Woodhill Dr.\, Roseville\, MN\, 55113\, United States
END:VEVENT
BEGIN:VEVENT
DTSTART;TZID=America/Chicago:20291119T180000
DTEND;TZID=America/Chicago:20291119T190000
DTSTAMP:20260419T095531
CREATED:20250106T204809Z
LAST-MODIFIED:20250106T204918Z
UID:10000612-1889805600-1889809200@osmanshriners.org
SUMMARY:Sportsman's Club Membership Meeting
DESCRIPTION:Monthly meeting for the Sportsman’s Club at the VFW in Roseville\, Minnesota.
URL:https://osmanshriners.org/event/sportsmans-club-membership-meeting/2029-11-19/
LOCATION:VFW Roseville\, 1145 Woodhill Dr.\, Roseville\, MN\, 55113\, United States
END:VEVENT
BEGIN:VEVENT
DTSTART;TZID=America/Chicago:20291217T180000
DTEND;TZID=America/Chicago:20291217T190000
DTSTAMP:20260419T095531
CREATED:20250106T204809Z
LAST-MODIFIED:20250106T204918Z
UID:10000613-1892224800-1892228400@osmanshriners.org
SUMMARY:Sportsman's Club Membership Meeting
DESCRIPTION:Monthly meeting for the Sportsman’s Club at the VFW in Roseville\, Minnesota.
URL:https://osmanshriners.org/event/sportsmans-club-membership-meeting/2029-12-17/
LOCATION:VFW Roseville\, 1145 Woodhill Dr.\, Roseville\, MN\, 55113\, United States
END:VEVENT
BEGIN:VEVENT
DTSTART;TZID=America/Chicago:20300121T180000
DTEND;TZID=America/Chicago:20300121T190000
DTSTAMP:20260419T095531
CREATED:20250106T204809Z
LAST-MODIFIED:20250106T204918Z
UID:10000720-1895248800-1895252400@osmanshriners.org
SUMMARY:Sportsman's Club Membership Meeting
DESCRIPTION:Monthly meeting for the Sportsman’s Club at the VFW in Roseville\, Minnesota.
URL:https://osmanshriners.org/event/sportsmans-club-membership-meeting/2030-01-21/
LOCATION:VFW Roseville\, 1145 Woodhill Dr.\, Roseville\, MN\, 55113\, United States
END:VEVENT
BEGIN:VEVENT
DTSTART;TZID=America/Chicago:20300218T180000
DTEND;TZID=America/Chicago:20300218T190000
DTSTAMP:20260419T095531
CREATED:20250106T204809Z
LAST-MODIFIED:20250106T204918Z
UID:10000721-1897668000-1897671600@osmanshriners.org
SUMMARY:Sportsman's Club Membership Meeting
DESCRIPTION:Monthly meeting for the Sportsman’s Club at the VFW in Roseville\, Minnesota.
URL:https://osmanshriners.org/event/sportsmans-club-membership-meeting/2030-02-18/
LOCATION:VFW Roseville\, 1145 Woodhill Dr.\, Roseville\, MN\, 55113\, United States
END:VEVENT
END:VCALENDAR