BEGIN:VCALENDAR
VERSION:2.0
PRODID:-//Osman Shriners - ECPv6.15.20//NONSGML v1.0//EN
CALSCALE:GREGORIAN
METHOD:PUBLISH
X-ORIGINAL-URL:https://osmanshriners.org
X-WR-CALDESC:Events for Osman Shriners
REFRESH-INTERVAL;VALUE=DURATION:PT1H
X-Robots-Tag:noindex
X-PUBLISHED-TTL:PT1H
BEGIN:VTIMEZONE
TZID:America/Chicago
BEGIN:DAYLIGHT
TZOFFSETFROM:-0600
TZOFFSETTO:-0500
TZNAME:CDT
DTSTART:20230312T080000
END:DAYLIGHT
BEGIN:STANDARD
TZOFFSETFROM:-0500
TZOFFSETTO:-0600
TZNAME:CST
DTSTART:20231105T070000
END:STANDARD
BEGIN:DAYLIGHT
TZOFFSETFROM:-0600
TZOFFSETTO:-0500
TZNAME:CDT
DTSTART:20240310T080000
END:DAYLIGHT
BEGIN:STANDARD
TZOFFSETFROM:-0500
TZOFFSETTO:-0600
TZNAME:CST
DTSTART:20241103T070000
END:STANDARD
BEGIN:DAYLIGHT
TZOFFSETFROM:-0600
TZOFFSETTO:-0500
TZNAME:CDT
DTSTART:20250309T080000
END:DAYLIGHT
BEGIN:STANDARD
TZOFFSETFROM:-0500
TZOFFSETTO:-0600
TZNAME:CST
DTSTART:20251102T070000
END:STANDARD
BEGIN:DAYLIGHT
TZOFFSETFROM:-0600
TZOFFSETTO:-0500
TZNAME:CDT
DTSTART:20260308T080000
END:DAYLIGHT
BEGIN:STANDARD
TZOFFSETFROM:-0500
TZOFFSETTO:-0600
TZNAME:CST
DTSTART:20261101T070000
END:STANDARD
END:VTIMEZONE
BEGIN:VEVENT
DTSTART;TZID=America/Chicago:20250605T150000
DTEND;TZID=America/Chicago:20250605T190000
DTSTAMP:20260422T113527
CREATED:20250507T162627Z
LAST-MODIFIED:20250508T210014Z
UID:10000798-1749135600-1749150000@osmanshriners.org
SUMMARY:Organizing for the Garage Sale
DESCRIPTION:Organizing Prior to the Garage Sale \n  \nJune 5th – 3 to 7 PM \nRSVP below or contact \nMark Sportelli \n952-210-8344 \nmark.sportelli@gmail.com
URL:https://osmanshriners.org/event/organizing-for-the-garage-sale-4/
LOCATION:Osman Shrine Warehouse
ORGANIZER;CN="Osman Shriners":MAILTO:office@osmanshriners.org
END:VEVENT
BEGIN:VEVENT
DTSTART;TZID=America/Chicago:20250604T150000
DTEND;TZID=America/Chicago:20250604T190000
DTSTAMP:20260422T113527
CREATED:20250507T162201Z
LAST-MODIFIED:20250508T205918Z
UID:10000797-1749049200-1749063600@osmanshriners.org
SUMMARY:Organizing for the Garage Sale
DESCRIPTION:Organizing Prior to the Garage Sale \n  \nJune 4th – 3 to 7 PM \nRSVP below or contact \nMark Sportelli \n952-210-8344 \nmark.sportelli@gmail.com
URL:https://osmanshriners.org/event/organizing-for-the-garage-sale-3/
LOCATION:Osman Shrine Warehouse
ORGANIZER;CN="Osman Shriners":MAILTO:office@osmanshriners.org
END:VEVENT
BEGIN:VEVENT
DTSTART;TZID=America/Chicago:20250529T150000
DTEND;TZID=America/Chicago:20250529T190000
DTSTAMP:20260422T113527
CREATED:20250507T161843Z
LAST-MODIFIED:20250508T205835Z
UID:10000796-1748530800-1748545200@osmanshriners.org
SUMMARY:Organizing for the Garage Sale
DESCRIPTION:Organizing Prior to the Garage Sale \n  \nMay 29th – 3 to 7 PM \nRSVP below or contact \nMark Sportelli \n952-210-8344 \nmark.sportelli@gmail.com
URL:https://osmanshriners.org/event/organizing-for-the-garage-sale-2/
LOCATION:Osman Shrine Warehouse
ORGANIZER;CN="Osman Shriners":MAILTO:office@osmanshriners.org
END:VEVENT
BEGIN:VEVENT
DTSTART;TZID=America/Chicago:20250528T150000
DTEND;TZID=America/Chicago:20250528T190000
DTSTAMP:20260422T113527
CREATED:20250507T161643Z
LAST-MODIFIED:20250508T205756Z
UID:10000795-1748444400-1748458800@osmanshriners.org
SUMMARY:Organizing for the Garage Sale
DESCRIPTION:Organizing Prior to the Garage Sale \n  \nMay 28th – 3 to 7 PM \nRSVP below or contact \nMark Sportelli \n952-210-8344 \nmark.sportelli@gmail.com
URL:https://osmanshriners.org/event/organizing-for-the-garage-sale/
LOCATION:Osman Shrine Warehouse
ORGANIZER;CN="Osman Shriners":MAILTO:office@osmanshriners.org
END:VEVENT
BEGIN:VEVENT
DTSTART;TZID=America/Chicago:20250527T173000
DTEND;TZID=America/Chicago:20250527T193000
DTSTAMP:20260422T113527
CREATED:20241231T223430Z
LAST-MODIFIED:20241231T223430Z
UID:10000543-1748367000-1748374200@osmanshriners.org
SUMMARY:Divan Meeting
DESCRIPTION:Divan Meeting \nTuesday\, May 27th\, 2025\, 5:30pm
URL:https://osmanshriners.org/event/divan-meeting-14/
LOCATION:Osman Shrine\, 2750 Sibley Memorial Hwy\, Eagan\, Minnesota\, 55121
ORGANIZER;CN="Osman Shriners":MAILTO:office@osmanshriners.org
END:VEVENT
BEGIN:VEVENT
DTSTART;TZID=America/Chicago:20250521T150000
DTEND;TZID=America/Chicago:20250521T190000
DTSTAMP:20260422T113527
CREATED:20250507T160129Z
LAST-MODIFIED:20250508T205616Z
UID:10000792-1747839600-1747854000@osmanshriners.org
SUMMARY:Sign Up for Setting Up
DESCRIPTION:Sign Up for Setting Up \n  \nMay 21st\, 3:00 – 7:00 PM \nOsman Shrine Warehouse \nRSVP below or contact \nMark Sportelli \n952-210-8344 \nmark.sportelli@gmail.com
URL:https://osmanshriners.org/event/sign-up-for-setting-up-5/
LOCATION:Osman Shrine Warehouse
ORGANIZER;CN="Osman Shriners":MAILTO:office@osmanshriners.org
END:VEVENT
BEGIN:VEVENT
DTSTART;TZID=America/Chicago:20250520T150000
DTEND;TZID=America/Chicago:20250520T190000
DTSTAMP:20260422T113527
CREATED:20250507T155914Z
LAST-MODIFIED:20250508T205537Z
UID:10000791-1747753200-1747767600@osmanshriners.org
SUMMARY:Sign Up for Setting Up
DESCRIPTION:Sign Up for Setting Up \n  \nMay 20th\, 3:00 – 7:00 PM \nOsman Shrine Warehouse \nRSVP below or contact \nMark Sportelli \n952-210-8344 \nmark.sportelli@gmail.com
URL:https://osmanshriners.org/event/sign-up-for-setting-up-4/
LOCATION:Osman Shrine Warehouse
ORGANIZER;CN="Osman Shriners":MAILTO:office@osmanshriners.org
END:VEVENT
BEGIN:VEVENT
DTSTART;TZID=America/Chicago:20250517T053000
DTEND;TZID=America/Chicago:20250517T210000
DTSTAMP:20260422T113527
CREATED:20250115T155908Z
LAST-MODIFIED:20250508T144640Z
UID:10000700-1747459800-1747515600@osmanshriners.org
SUMMARY:Osman Nobility Ball
DESCRIPTION:May 17th\, 2025 – Osman Nobility Ball please see attached RSVP for directions on reserving your spot. \n 
URL:https://osmanshriners.org/event/osman-nobility-ball/
ORGANIZER;CN="Osman Shriners":MAILTO:office@osmanshriners.org
END:VEVENT
BEGIN:VEVENT
DTSTART;TZID=America/Chicago:20250515T150000
DTEND;TZID=America/Chicago:20250515T190000
DTSTAMP:20260422T113527
CREATED:20250507T155640Z
LAST-MODIFIED:20250508T205456Z
UID:10000790-1747321200-1747335600@osmanshriners.org
SUMMARY:Sign Up for Setting Up
DESCRIPTION:Sign Up for Setting Up \n  \nMay 15th\, 3:00 – 7:00 PM \nOsman Shrine Warehouse \nRSVP below or contact \nMark Sportelli \n952-210-8344 \nmark.sportelli@gmail.com
URL:https://osmanshriners.org/event/sign-up-for-setting-up-3/
LOCATION:Osman Shrine Warehouse
ORGANIZER;CN="Osman Shriners":MAILTO:office@osmanshriners.org
END:VEVENT
BEGIN:VEVENT
DTSTART;TZID=America/Chicago:20250514T150000
DTEND;TZID=America/Chicago:20250514T190000
DTSTAMP:20260422T113527
CREATED:20250507T155255Z
LAST-MODIFIED:20250508T205421Z
UID:10000789-1747234800-1747249200@osmanshriners.org
SUMMARY:Sign Up for Setting Up
DESCRIPTION:Sign Up for Setting Up \n  \nMay 14th\, 3:00 – 7:00 PM \nOsman Shrine Warehouse \nRSVP below or contact \nMark Sportelli \n952-210-8344 \nmark.sportelli@gmail.com
URL:https://osmanshriners.org/event/sign-up-for-setting-up-2/
LOCATION:Osman Shrine Warehouse
ORGANIZER;CN="Osman Shriners":MAILTO:office@osmanshriners.org
END:VEVENT
BEGIN:VEVENT
DTSTART;TZID=America/Chicago:20250513T150000
DTEND;TZID=America/Chicago:20250513T190000
DTSTAMP:20260422T113527
CREATED:20250507T154832Z
LAST-MODIFIED:20250508T205309Z
UID:10000788-1747148400-1747162800@osmanshriners.org
SUMMARY:Sign Up for Setting Up
DESCRIPTION:Sign Up for Setting Up \n  \nMay 13th\, 3:00 – 7:00 PM \nRSVP below or contact \nMark Sportelli \n952-210-8344 \nmark.sportelli@gmail.com
URL:https://osmanshriners.org/event/sign-up-for-setting-up/
LOCATION:Osman Shrine Warehouse
ORGANIZER;CN="Osman Shriners":MAILTO:office@osmanshriners.org
END:VEVENT
BEGIN:VEVENT
DTSTART;TZID=America/Chicago:20250504T100000
DTEND;TZID=America/Chicago:20250504T133000
DTSTAMP:20260422T113527
CREATED:20250115T155652Z
LAST-MODIFIED:20250312T154037Z
UID:10000699-1746352800-1746365400@osmanshriners.org
SUMMARY:Ladies / Loved Ones Appreciation Brunch
DESCRIPTION:May 4th\, 2025 – Ladies / Loved Ones Appreciation Brunch. \n 
URL:https://osmanshriners.org/event/ladies-loved-ones-appreciation-brunch/
LOCATION:Osman Shrine\, 2750 Sibley Memorial Hwy\, Eagan\, Minnesota\, 55121
ORGANIZER;CN="Osman Shriners":MAILTO:office@osmanshriners.org
END:VEVENT
BEGIN:VEVENT
DTSTART;TZID=America/Chicago:20250422T173000
DTEND;TZID=America/Chicago:20250422T203000
DTSTAMP:20260422T113527
CREATED:20241231T223302Z
LAST-MODIFIED:20241231T223302Z
UID:10000542-1745343000-1745353800@osmanshriners.org
SUMMARY:Divan Meeting
DESCRIPTION:Divan Meeting \nTuesday\, April 22nd\, 2025\, 5:30pm
URL:https://osmanshriners.org/event/divan-meeting-13/
LOCATION:Osman Shrine\, 2750 Sibley Memorial Hwy\, Eagan\, Minnesota\, 55121
ORGANIZER;CN="Osman Shriners":MAILTO:office@osmanshriners.org
END:VEVENT
BEGIN:VEVENT
DTSTART;TZID=America/Chicago:20250413T130000
DTEND;TZID=America/Chicago:20250413T150000
DTSTAMP:20260422T113527
CREATED:20250115T155216Z
LAST-MODIFIED:20250312T154544Z
UID:10000696-1744549200-1744556400@osmanshriners.org
SUMMARY:Easter Eggstravaganza
DESCRIPTION:April 13th\, 2025\,
URL:https://osmanshriners.org/event/brunch-with-the-easter-bunny/
LOCATION:Osman Shrine\, 2750 Sibley Memorial Hwy\, Eagan\, Minnesota\, 55121
ORGANIZER;CN="Osman Shriners":MAILTO:office@osmanshriners.org
END:VEVENT
BEGIN:VEVENT
DTSTART;TZID=America/Chicago:20250329T090000
DTEND;TZID=America/Chicago:20250329T120000
DTSTAMP:20260422T113527
CREATED:20250106T212912Z
LAST-MODIFIED:20250205T223235Z
UID:10000674-1743238800-1743249600@osmanshriners.org
SUMMARY:Osman Club & Unit Seminar
DESCRIPTION:Osman Club & Unit Meeting \nSaturday\, March 1st\, 2025 – Club & Unit Seminar
URL:https://osmanshriners.org/event/osman-club-unit-seminar-2/
LOCATION:Osman Shrine\, 2750 Sibley Memorial Hwy\, Eagan\, Minnesota\, 55121
ORGANIZER;CN="Osman Shriners":MAILTO:office@osmanshriners.org
END:VEVENT
BEGIN:VEVENT
DTSTART;TZID=America/Chicago:20250325T173000
DTEND;TZID=America/Chicago:20250325T203000
DTSTAMP:20260422T113527
CREATED:20241231T223124Z
LAST-MODIFIED:20241231T223124Z
UID:10000541-1742923800-1742934600@osmanshriners.org
SUMMARY:Divan Meeting
DESCRIPTION:Divan Meeting \nTuesday\, March 25th\, 2025\, 5:30pm
URL:https://osmanshriners.org/event/divan-meeting-12/
LOCATION:Osman Shrine\, 2750 Sibley Memorial Hwy\, Eagan\, Minnesota\, 55121
ORGANIZER;CN="Osman Shriners":MAILTO:office@osmanshriners.org
END:VEVENT
BEGIN:VEVENT
DTSTART;TZID=America/Chicago:20250316T143000
DTEND;TZID=America/Chicago:20250316T190000
DTSTAMP:20260422T113527
CREATED:20250115T155002Z
LAST-MODIFIED:20250304T163302Z
UID:10000695-1742135400-1742151600@osmanshriners.org
SUMMARY:St. Patrick's Day Ceremonial and Irish themed dinner
DESCRIPTION:March 16th\, 2025 – St. Patrick’s Day Ceremonial and Irish themed dinner \n2:30p Candidate registration \n3;00p Candidate and significant other orientation \n4;00p Open ceremony and Fezzing \n5;00p Social \n5;30p Dinner \n 
URL:https://osmanshriners.org/event/st-patricks-day-ceremonial-and-irish-themed-dinner-2/
LOCATION:Osman Shrine\, 2750 Sibley Memorial Hwy\, Eagan\, Minnesota\, 55121
ORGANIZER;CN="Osman Shriners":MAILTO:office@osmanshriners.org
END:VEVENT
BEGIN:VEVENT
DTSTART;TZID=America/Chicago:20250311T183000
DTEND;TZID=America/Chicago:20250311T203000
DTSTAMP:20260422T113527
CREATED:20241231T220754Z
LAST-MODIFIED:20241231T220754Z
UID:10000535-1741717800-1741725000@osmanshriners.org
SUMMARY:Osman Stated Meeting
DESCRIPTION:Osman Stated Meeting \nTuesday\, March 11th\, 2025\, 6:30pm
URL:https://osmanshriners.org/event/osman-stated-meeting-6/
LOCATION:Osman Shrine\, 2750 Sibley Memorial Hwy\, Eagan\, Minnesota\, 55121
ORGANIZER;CN="Osman Shriners":MAILTO:office@osmanshriners.org
END:VEVENT
BEGIN:VEVENT
DTSTART;TZID=America/Chicago:20250225T173000
DTEND;TZID=America/Chicago:20250225T203000
DTSTAMP:20260422T113527
CREATED:20241231T222857Z
LAST-MODIFIED:20241231T222857Z
UID:10000540-1740504600-1740515400@osmanshriners.org
SUMMARY:Divan Meeting
DESCRIPTION:Divan Meeting \nTuesday\, February 25th\, 2025\, 5:30pm
URL:https://osmanshriners.org/event/divan-meeting-11/
LOCATION:Osman Shrine\, 2750 Sibley Memorial Hwy\, Eagan\, Minnesota\, 55121
ORGANIZER;CN="Osman Shriners":MAILTO:office@osmanshriners.org
END:VEVENT
BEGIN:VEVENT
DTSTART;TZID=America/Chicago:20250128T173000
DTEND;TZID=America/Chicago:20250128T183000
DTSTAMP:20260422T113527
CREATED:20241231T222733Z
LAST-MODIFIED:20241231T222733Z
UID:10000539-1738085400-1738089000@osmanshriners.org
SUMMARY:Divan Meeting
DESCRIPTION:Divan Meeting \nTuesday\, January 28th\, 2025\, 5:30pm
URL:https://osmanshriners.org/event/divan-meeting-10/
LOCATION:Osman Shrine\, 2750 Sibley Memorial Hwy\, Eagan\, Minnesota\, 55121
ORGANIZER;CN="Osman Shriners":MAILTO:office@osmanshriners.org
END:VEVENT
BEGIN:VEVENT
DTSTART;TZID=America/Chicago:20250126T113000
DTEND;TZID=America/Chicago:20250126T163000
DTSTAMP:20260422T113527
CREATED:20250106T215422Z
LAST-MODIFIED:20250106T215422Z
UID:10000679-1737891000-1737909000@osmanshriners.org
SUMMARY:Cornhole tournament
DESCRIPTION:January 26th\, 2025 – Cornhole tournament
URL:https://osmanshriners.org/event/cornhole-tournament/
LOCATION:The Lost Spur Golf & Event Center\, 2750 Sibley Memorial Highway\, Eagan\, 55121\, United States
ORGANIZER;CN="Osman Shriners":MAILTO:office@osmanshriners.org
END:VEVENT
BEGIN:VEVENT
DTSTART;TZID=America/Chicago:20250111T120000
DTEND;TZID=America/Chicago:20250111T150000
DTSTAMP:20260422T113527
CREATED:20241231T220539Z
LAST-MODIFIED:20241231T220918Z
UID:10000534-1736596800-1736607600@osmanshriners.org
SUMMARY:Potentate's Reception
DESCRIPTION:Saturday\, January 11th\, 2025 – Potentate’s Reception 12:15pm
URL:https://osmanshriners.org/event/potentates-reception-2/
LOCATION:Osman Shrine\, 2750 Sibley Memorial Hwy\, Eagan\, Minnesota\, 55121
ORGANIZER;CN="Osman Shriners":MAILTO:office@osmanshriners.org
END:VEVENT
BEGIN:VEVENT
DTSTART;TZID=America/Chicago:20250107T183000
DTEND;TZID=America/Chicago:20250107T200000
DTSTAMP:20260422T113527
CREATED:20241231T220313Z
LAST-MODIFIED:20241231T220313Z
UID:10000533-1736274600-1736280000@osmanshriners.org
SUMMARY:Osman Stated Meeting
DESCRIPTION:Osman Stated Meeting \nTuesday\, January 7th\, 2025\, 6:30pm
URL:https://osmanshriners.org/event/osman-stated-meeting-5/
LOCATION:Osman Shrine\, 2750 Sibley Memorial Hwy\, Eagan\, Minnesota\, 55121
ORGANIZER;CN="Osman Shriners":MAILTO:office@osmanshriners.org
END:VEVENT
BEGIN:VEVENT
DTSTART;TZID=America/Chicago:20250101T100000
DTEND;TZID=America/Chicago:20250101T130000
DTSTAMP:20260422T113527
CREATED:20241212T165451Z
LAST-MODIFIED:20241223T181609Z
UID:10000529-1735725600-1735736400@osmanshriners.org
SUMMARY:New Years Brunch
DESCRIPTION:New Years Brunch Lost Spur Event Center. \n  \n$21 includes meal\, gratuity\, and a GREAT TIME! \n  \n10am-1pm \n  \nGet Your Tickets below! will need to know by Thursday December 26th\, 2024\, 12pm
URL:https://osmanshriners.org/event/new-years-brunch/
LOCATION:The Lost Spur Golf & Event Center\, 2750 Sibley Memorial Highway\, Eagan\, 55121\, United States
ORGANIZER;CN="Osman Shriners":MAILTO:office@osmanshriners.org
END:VEVENT
BEGIN:VEVENT
DTSTART;TZID=America/Chicago:20241225T180000
DTEND;TZID=America/Chicago:20241225T190000
DTSTAMP:20260422T113527
CREATED:20240113T043807Z
LAST-MODIFIED:20240113T043807Z
UID:10000254-1735149600-1735153200@osmanshriners.org
SUMMARY:Rochester Dragon Patrol Meeting
DESCRIPTION:Rochester Dragon Patrol Meeting
URL:https://osmanshriners.org/event/rochester-dragon-patrol-meeting-7/
LOCATION:Fat Willy’s\, 4325 Maine Ave SE\, Rochester\, 55904
ORGANIZER;CN="Osman Shriners":MAILTO:office@osmanshriners.org
END:VEVENT
BEGIN:VEVENT
DTSTART;TZID=America/Chicago:20241225T070000
DTEND;TZID=America/Chicago:20241225T080000
DTSTAMP:20260422T113527
CREATED:20240113T043807Z
LAST-MODIFIED:20240113T043807Z
UID:10000253-1735110000-1735113600@osmanshriners.org
SUMMARY:RASC Breakfast
DESCRIPTION:RASC Breakfast
URL:https://osmanshriners.org/event/rasc-breakfast-30/
LOCATION:Canadian Honker Restaurant\, 1203 2nd St SW\, Rochester\, 55902
ORGANIZER;CN="Osman Shriners":MAILTO:office@osmanshriners.org
END:VEVENT
BEGIN:VEVENT
DTSTART;TZID=America/Chicago:20241219T170000
DTEND;TZID=America/Chicago:20241219T210000
DTSTAMP:20260422T113527
CREATED:20240113T043807Z
LAST-MODIFIED:20240113T043807Z
UID:10000251-1734627600-1734642000@osmanshriners.org
SUMMARY:Osman Sheiks Meeting
DESCRIPTION:Please contact Wally Larsen with any questions
URL:https://osmanshriners.org/event/osman-sheiks-meeting-8/
ORGANIZER;CN="Osman Shriners":MAILTO:office@osmanshriners.org
END:VEVENT
BEGIN:VEVENT
DTSTART;TZID=America/Chicago:20241218T180000
DTEND;TZID=America/Chicago:20241218T200000
DTSTAMP:20260422T113527
CREATED:20240113T043807Z
LAST-MODIFIED:20241217T014600Z
UID:10000250-1734544800-1734552000@osmanshriners.org
SUMMARY:Mankato TBuckets/TBirds Monthly Business Meeting
DESCRIPTION:Mankato TBuckets/TBirds Monthly Business Meeting
URL:https://osmanshriners.org/event/mankato-tbuckets-tbirds-monthly-business-meeting-8/
ORGANIZER;CN="Osman Shriners":MAILTO:office@osmanshriners.org
END:VEVENT
BEGIN:VEVENT
DTSTART;TZID=America/Chicago:20241218T070000
DTEND;TZID=America/Chicago:20241218T080000
DTSTAMP:20260422T113527
CREATED:20240113T043807Z
LAST-MODIFIED:20240113T043807Z
UID:10000249-1734505200-1734508800@osmanshriners.org
SUMMARY:RASC Breakfast
DESCRIPTION:RASC Breakfast
URL:https://osmanshriners.org/event/rasc-breakfast-31/
LOCATION:Canadian Honker Restaurant\, 1203 2nd St SW\, Rochester\, 55902
ORGANIZER;CN="Osman Shriners":MAILTO:office@osmanshriners.org
END:VEVENT
BEGIN:VEVENT
DTSTART;TZID=America/Chicago:20241217T173000
DTEND;TZID=America/Chicago:20241217T203000
DTSTAMP:20260422T113527
CREATED:20241204T164708Z
LAST-MODIFIED:20241204T190558Z
UID:10000527-1734456600-1734467400@osmanshriners.org
SUMMARY:Parade To Glory
DESCRIPTION:December 17th\, 5:30 pm – 8:30 pm \nDinner is beef tips & chicken for $27 including tip.
URL:https://osmanshriners.org/event/parade-to-glory/
LOCATION:Osman Shrine\, 2750 Sibley Memorial Hwy\, Eagan\, Minnesota\, 55121
ORGANIZER;CN="Osman Shriners":MAILTO:office@osmanshriners.org
END:VEVENT
END:VCALENDAR