BEGIN:VCALENDAR
VERSION:2.0
PRODID:-//Osman Shriners - ECPv6.15.20//NONSGML v1.0//EN
CALSCALE:GREGORIAN
METHOD:PUBLISH
X-ORIGINAL-URL:https://osmanshriners.org
X-WR-CALDESC:Events for Osman Shriners
REFRESH-INTERVAL;VALUE=DURATION:PT1H
X-Robots-Tag:noindex
X-PUBLISHED-TTL:PT1H
BEGIN:VTIMEZONE
TZID:America/Chicago
BEGIN:DAYLIGHT
TZOFFSETFROM:-0600
TZOFFSETTO:-0500
TZNAME:CDT
DTSTART:20240310T080000
END:DAYLIGHT
BEGIN:STANDARD
TZOFFSETFROM:-0500
TZOFFSETTO:-0600
TZNAME:CST
DTSTART:20241103T070000
END:STANDARD
BEGIN:DAYLIGHT
TZOFFSETFROM:-0600
TZOFFSETTO:-0500
TZNAME:CDT
DTSTART:20250309T080000
END:DAYLIGHT
BEGIN:STANDARD
TZOFFSETFROM:-0500
TZOFFSETTO:-0600
TZNAME:CST
DTSTART:20251102T070000
END:STANDARD
BEGIN:DAYLIGHT
TZOFFSETFROM:-0600
TZOFFSETTO:-0500
TZNAME:CDT
DTSTART:20260308T080000
END:DAYLIGHT
BEGIN:STANDARD
TZOFFSETFROM:-0500
TZOFFSETTO:-0600
TZNAME:CST
DTSTART:20261101T070000
END:STANDARD
BEGIN:DAYLIGHT
TZOFFSETFROM:-0600
TZOFFSETTO:-0500
TZNAME:CDT
DTSTART:20270314T080000
END:DAYLIGHT
BEGIN:STANDARD
TZOFFSETFROM:-0500
TZOFFSETTO:-0600
TZNAME:CST
DTSTART:20271107T070000
END:STANDARD
END:VTIMEZONE
BEGIN:VEVENT
DTSTART;TZID=America/Chicago:20260416T173000
DTEND;TZID=America/Chicago:20260416T190000
DTSTAMP:20260422T101451
CREATED:20260323T142157Z
LAST-MODIFIED:20260323T142157Z
UID:10001025-1776360600-1776366000@osmanshriners.org
SUMMARY:East Central Shrine Club Meeting
DESCRIPTION:Short meeting and dinner\, wives are welcome.
URL:https://osmanshriners.org/event/east-central-shrine-club-meeting/2026-04-16/
LOCATION:Osman Shrine\, 2750 Sibley Memorial Hwy\, Eagan\, Minnesota\, 55121
ORGANIZER;CN="Osman Shriners":MAILTO:office@osmanshriners.org
END:VEVENT
BEGIN:VEVENT
DTSTART;TZID=America/Chicago:20260409T180000
DTEND;TZID=America/Chicago:20260409T200000
DTSTAMP:20260422T101451
CREATED:20260312T220021Z
LAST-MODIFIED:20260312T220021Z
UID:10000964-1775757600-1775764800@osmanshriners.org
SUMMARY:Osman DaddyO-S
DESCRIPTION:Stated Meeting Second Tuesday of the month. Social at 6:00PM Meeting at 7:00PM.
URL:https://osmanshriners.org/event/osman-daddyo-s/2026-04-09/
LOCATION:Tavern 22\, 3401 Northern Valley Place NE\, Rochester\, 55906
ORGANIZER;CN="Osman Shriners":MAILTO:office@osmanshriners.org
END:VEVENT
BEGIN:VEVENT
DTSTART;TZID=America/Chicago:20260312T180000
DTEND;TZID=America/Chicago:20260312T200000
DTSTAMP:20260422T101451
CREATED:20260312T220021Z
LAST-MODIFIED:20260312T220021Z
UID:10000963-1773338400-1773345600@osmanshriners.org
SUMMARY:Osman DaddyO-S
DESCRIPTION:Stated Meeting Second Tuesday of the month. Social at 6:00PM Meeting at 7:00PM.
URL:https://osmanshriners.org/event/osman-daddyo-s/2026-03-12/
LOCATION:Tavern 22\, 3401 Northern Valley Place NE\, Rochester\, 55906
ORGANIZER;CN="Osman Shriners":MAILTO:office@osmanshriners.org
END:VEVENT
BEGIN:VEVENT
DTSTART;TZID=America/Chicago:20260106T183000
DTEND;TZID=America/Chicago:20260106T203000
DTSTAMP:20260422T101451
CREATED:20250115T162708Z
LAST-MODIFIED:20250115T162708Z
UID:10000710-1767724200-1767731400@osmanshriners.org
SUMMARY:Osman Annual Stated Meeting
DESCRIPTION:January 6th\, 2026 – Osman Annual Stated Meeting
URL:https://osmanshriners.org/event/osman-annual-stated-meeting/
LOCATION:Osman Shrine\, 2750 Sibley Memorial Hwy\, Eagan\, Minnesota\, 55121
ORGANIZER;CN="Osman Shriners":MAILTO:office@osmanshriners.org
END:VEVENT
BEGIN:VEVENT
DTSTART;TZID=America/Chicago:20260101T100000
DTEND;TZID=America/Chicago:20260101T140000
DTSTAMP:20260422T101451
CREATED:20251211T211433Z
LAST-MODIFIED:20251224T180758Z
UID:10000905-1767261600-1767276000@osmanshriners.org
SUMMARY:NEW YEAR’S BRUNCH
DESCRIPTION:2026 NEW YEARS BRUNCH FLYER\nPLEASE JOIN US FOR A\nNEW YEAR’S\nBRUNCH\nJANUARY 1 2026 at 10:00 AM\nLOST SPUR OSMAN EVENT CENTER\n2750 SIBLEY MEMORIAL HWY\, EAGAN\nCOST IS $22 PER PERSON \norder tickets below\, ticket purchase confirms your RSVP
URL:https://osmanshriners.org/event/new-years-brunch-2/
LOCATION:The Lost Spur Golf & Event Center\, 2750 Sibley Memorial Highway\, Eagan\, 55121\, United States
ORGANIZER;CN="Osman Shriners":MAILTO:office@osmanshriners.org
END:VEVENT
BEGIN:VEVENT
DTSTART;TZID=America/Chicago:20251209T173000
DTEND;TZID=America/Chicago:20251209T193000
DTSTAMP:20260422T101451
CREATED:20250106T214413Z
LAST-MODIFIED:20250106T214413Z
UID:10000677-1765301400-1765308600@osmanshriners.org
SUMMARY:
DESCRIPTION:Osman Club & Unit Meeting \nTuesday\, December 9th\, 2025 – Parade to Glory Dinner
URL:https://osmanshriners.org/event/17933/
LOCATION:Osman Shrine\, 2750 Sibley Memorial Hwy\, Eagan\, Minnesota\, 55121
ORGANIZER;CN="Osman Shriners":MAILTO:office@osmanshriners.org
END:VEVENT
BEGIN:VEVENT
DTSTART;TZID=America/Chicago:20251209T163000
DTEND;TZID=America/Chicago:20251209T173000
DTSTAMP:20260422T101451
CREATED:20241231T225650Z
LAST-MODIFIED:20251209T165830Z
UID:10000551-1765297800-1765301400@osmanshriners.org
SUMMARY:Event Update: Divan & Parade of Glory Rescheduled Divan Meeting
DESCRIPTION:  \nDear Members\, \nDue to the incoming inclement weather\, we are canceling the Divan Meeting and Parade of Glory event scheduled for tonight. \nThe event has been rescheduled for next Tuesday\, December 16th\, 2025\, with the following details: \n\nDivan Meeting: 4:30 PM – 5:30 PM\nParade of Glory: 5:30 PM – 9:00 PM\n\nWe apologize for any inconvenience this may cause and appreciate your understanding. \n\nDivan Meeting \nTuesday\, December 9th\, 2025 – Before the Parade to Glory Dinner\, 4:30pm
URL:https://osmanshriners.org/event/divan-meeting-21/
LOCATION:Osman Shrine\, 2750 Sibley Memorial Hwy\, Eagan\, Minnesota\, 55121
ORGANIZER;CN="Osman Shriners":MAILTO:office@osmanshriners.org
END:VEVENT
BEGIN:VEVENT
DTSTART;TZID=America/Chicago:20251207T130000
DTEND;TZID=America/Chicago:20251207T150000
DTSTAMP:20260422T101451
CREATED:20250115T161845Z
LAST-MODIFIED:20251117T155340Z
UID:10000708-1765112400-1765119600@osmanshriners.org
SUMMARY:Osman Children's Holiday Party
DESCRIPTION:December 7th\, 2025 -Osman Children’s Holiday Party from 1:00 to 3:00 at the Lost Spur. \nThere will be crafts & games as well as photos with Santa and Mrs. Claus. Food and beverage will be provided.
URL:https://osmanshriners.org/event/osman-childrens-holiday-party-3/
LOCATION:The Lost Spur Golf & Event Center\, 2750 Sibley Memorial Highway\, Eagan\, 55121\, United States
ORGANIZER;CN="Osman Shriners":MAILTO:office@osmanshriners.org
END:VEVENT
BEGIN:VEVENT
DTSTART;TZID=America/Chicago:20251202T183000
DTEND;TZID=America/Chicago:20251202T203000
DTSTAMP:20260422T101451
CREATED:20241231T221904Z
LAST-MODIFIED:20241231T221904Z
UID:10000538-1764700200-1764707400@osmanshriners.org
SUMMARY:Osman Stated Meeting
DESCRIPTION:Osman Stated Meeting \nTuesday\, December 2nd\, 2025\, 6:30pm
URL:https://osmanshriners.org/event/osman-stated-meeting-9/
LOCATION:Osman Shrine\, 2750 Sibley Memorial Hwy\, Eagan\, Minnesota\, 55121
ORGANIZER;CN="Osman Shriners":MAILTO:office@osmanshriners.org
END:VEVENT
BEGIN:VEVENT
DTSTART;TZID=America/Chicago:20251125T173000
DTEND;TZID=America/Chicago:20251125T193000
DTSTAMP:20260422T101451
CREATED:20241231T225506Z
LAST-MODIFIED:20241231T225506Z
UID:10000550-1764091800-1764099000@osmanshriners.org
SUMMARY:Divan Meeting
DESCRIPTION:Divan Meeting \nTuesday\, November 25th\, 2025\, 5:30pm
URL:https://osmanshriners.org/event/divan-meeting-20/
LOCATION:Osman Shrine\, 2750 Sibley Memorial Hwy\, Eagan\, Minnesota\, 55121
ORGANIZER;CN="Osman Shriners":MAILTO:office@osmanshriners.org
END:VEVENT
BEGIN:VEVENT
DTSTART;TZID=America/Chicago:20251103T173000
DTEND;TZID=America/Chicago:20251103T210000
DTSTAMP:20260422T101451
CREATED:20250115T161622Z
LAST-MODIFIED:20251027T194053Z
UID:10000707-1762191000-1762203600@osmanshriners.org
SUMMARY:Hufli 
DESCRIPTION:November 3rd\, 2025 – Hufli Turkey Dinner-FEZ EVENT- Sorry No Ladies… \n\nClubs and Units: When reserving a table\, you are responsible for purchasing the full table (not just individual seats). If you have open spots\, we will assist in filling them. Please submit your reservations as soon as possible.\nIndividual Members: If you are not part of a club or unit table\, you may reserve an individual seat\, and we will ensure you are placed at a table.
URL:https://osmanshriners.org/event/hufli-2/
LOCATION:The Lost Spur Golf & Event Center\, 2750 Sibley Memorial Highway\, Eagan\, 55121\, United States
ORGANIZER;CN="Osman Shriners":MAILTO:office@osmanshriners.org
END:VEVENT
BEGIN:VEVENT
DTSTART;TZID=America/Chicago:20251025T180000
DTEND;TZID=America/Chicago:20251025T230000
DTSTAMP:20260422T101451
CREATED:20250115T161501Z
LAST-MODIFIED:20251022T145931Z
UID:10000706-1761415200-1761433200@osmanshriners.org
SUMMARY:Halloween Pub Crawl
DESCRIPTION:October 25th\, 2025 – Halloween Pub Crawl – \nCost is $30 and is limited to 40 people. \nIt will be first come-first served. \nYour payment will serve as confirmation of your reservation. \nCostumes are optional but encouraged! \nWill start and end at the Lost Spur \n2750 Sibley Memorial Hwy Eagan MN 5512 \nPlease contact Jeff at 651-452-5660 or jeff@osmanshrine.org \n  \n 
URL:https://osmanshriners.org/event/ceremonial-halloween-pub-crawl/
ORGANIZER;CN="Osman Shriners":MAILTO:office@osmanshriners.org
END:VEVENT
BEGIN:VEVENT
DTSTART;TZID=America/Chicago:20251025T150000
DTEND;TZID=America/Chicago:20251025T170000
DTSTAMP:20260422T101451
CREATED:20250917T201057Z
LAST-MODIFIED:20250917T201057Z
UID:10000885-1761404400-1761411600@osmanshriners.org
SUMMARY:Osman Shriners Fall Ceremonial
DESCRIPTION:Osman Shriners Fall CeremonialWe are pleased to announce that Osman Shriners will be holding our Fall Ceremonial on Saturday\, October 25th\, at the Lost Spur Event Center in Eagan. \nWe look forward to welcoming you to this special occasion and invite you to share this information with others who may wish to attend. Please RSVP below. \n.
URL:https://osmanshriners.org/event/osman-shriners-fall-ceremonial/
LOCATION:The Lost Spur Golf & Event Center\, 2750 Sibley Memorial Highway\, Eagan\, 55121\, United States
ORGANIZER;CN="Osman Shriners":MAILTO:office@osmanshriners.org
END:VEVENT
BEGIN:VEVENT
DTSTART;TZID=America/Chicago:20250923T173000
DTEND;TZID=America/Chicago:20250923T193000
DTSTAMP:20260422T101451
CREATED:20241231T225229Z
LAST-MODIFIED:20241231T225229Z
UID:10000548-1758648600-1758655800@osmanshriners.org
SUMMARY:Divan Meeting
DESCRIPTION:Divan Meeting \nTuesday\, September 23rd\, 2025\, 5:30pm
URL:https://osmanshriners.org/event/divan-meeting-18/
LOCATION:Osman Shrine\, 2750 Sibley Memorial Hwy\, Eagan\, Minnesota\, 55121
ORGANIZER;CN="Osman Shriners":MAILTO:office@osmanshriners.org
END:VEVENT
BEGIN:VEVENT
DTSTART;TZID=America/Chicago:20250923T173000
DTEND;TZID=America/Chicago:20250923T193000
DTSTAMP:20260422T101451
CREATED:20241231T224513Z
LAST-MODIFIED:20241231T224513Z
UID:10000547-1758648600-1758655800@osmanshriners.org
SUMMARY:
DESCRIPTION:Divan Meeting \nTuesday\, September 23rd\, 2025\, 5:30pm
URL:https://osmanshriners.org/event/17870/
LOCATION:Osman Shrine\, 2750 Sibley Memorial Hwy\, Eagan\, Minnesota\, 55121
ORGANIZER;CN="Osman Shriners":MAILTO:office@osmanshriners.org
END:VEVENT
BEGIN:VEVENT
DTSTART;TZID=America/Chicago:20250909T183000
DTEND;TZID=America/Chicago:20250909T203000
DTSTAMP:20260422T101451
CREATED:20241231T221659Z
LAST-MODIFIED:20241231T222207Z
UID:10000537-1757442600-1757449800@osmanshriners.org
SUMMARY:Osman Stated Meeting
DESCRIPTION:Osman Stated Meeting \nTuesday\, September 9th\, 2025\, 6:30pm
URL:https://osmanshriners.org/event/osman-stated-meeting-8/
LOCATION:Osman Shrine\, 2750 Sibley Memorial Hwy\, Eagan\, Minnesota\, 55121
ORGANIZER;CN="Osman Shriners":MAILTO:office@osmanshriners.org
END:VEVENT
BEGIN:VEVENT
DTSTART;TZID=America/Chicago:20250826T173000
DTEND;TZID=America/Chicago:20250826T193000
DTSTAMP:20260422T101451
CREATED:20241231T224138Z
LAST-MODIFIED:20241231T224138Z
UID:10000546-1756229400-1756236600@osmanshriners.org
SUMMARY:Divan Meeting
DESCRIPTION:Divan Meeting \nTuesday\, August 26th\, 2025\, 5:30pm
URL:https://osmanshriners.org/event/divan-meeting-17/
LOCATION:Osman Shrine\, 2750 Sibley Memorial Hwy\, Eagan\, Minnesota\, 55121
ORGANIZER;CN="Osman Shriners":MAILTO:office@osmanshriners.org
END:VEVENT
BEGIN:VEVENT
DTSTART;TZID=America/Chicago:20250812T183000
DTEND;TZID=America/Chicago:20250812T203000
DTSTAMP:20260422T101451
CREATED:20250707T210101Z
LAST-MODIFIED:20250707T210101Z
UID:10000812-1755023400-1755030600@osmanshriners.org
SUMMARY:Osman Club & Unit Meeting
DESCRIPTION:Osman Club & Unit Meeting August 12th\, 2025 \nTuesday\, August 12th\, 2025
URL:https://osmanshriners.org/event/osman-club-unit-meeting-4/
LOCATION:The Lost Spur Golf & Event Center\, 2750 Sibley Memorial Highway\, Eagan\, 55121\, United States
ORGANIZER;CN="Osman Shriners":MAILTO:office@osmanshriners.org
END:VEVENT
BEGIN:VEVENT
DTSTART;TZID=America/Chicago:20250722T173000
DTEND;TZID=America/Chicago:20250722T193000
DTSTAMP:20260422T101451
CREATED:20241231T223858Z
LAST-MODIFIED:20241231T223858Z
UID:10000545-1753205400-1753212600@osmanshriners.org
SUMMARY:Divan Meeting
DESCRIPTION:Divan Meeting \nTuesday\, July 22nd\, 2025\, 5:30pm
URL:https://osmanshriners.org/event/divan-meeting-16/
LOCATION:Osman Shrine\, 2750 Sibley Memorial Hwy\, Eagan\, Minnesota\, 55121
ORGANIZER;CN="Osman Shriners":MAILTO:office@osmanshriners.org
END:VEVENT
BEGIN:VEVENT
DTSTART;TZID=America/Chicago:20250704T163000
DTEND;TZID=America/Chicago:20250704T220000
DTSTAMP:20260422T101451
CREATED:20250115T160559Z
LAST-MODIFIED:20250606T121626Z
UID:10000703-1751646600-1751666400@osmanshriners.org
SUMMARY:Stewartville Temple Parade
DESCRIPTION:July 4th\, 2025 – Stewartville Temple Parade & Oasis \nFRIDAY JUL 4TH Stewartville\, MN \nSTEWARTVILLE SUMMERFEST PARADE \nLine up is at 4:30 pm and step-off is at 6:30 pm. Oasis to follow at Bryan Hanson’s Shop. Food will be catered by 2 Bros Catering. Address is: 1718 County Rd 6 SW\, Stewartville\, MN 55976
URL:https://osmanshriners.org/event/stewartville-temple-parade/
ORGANIZER;CN="Osman Shriners":MAILTO:office@osmanshriners.org
END:VEVENT
BEGIN:VEVENT
DTSTART;TZID=America/Chicago:20250624T173000
DTEND;TZID=America/Chicago:20250624T193000
DTSTAMP:20260422T101451
CREATED:20241231T223607Z
LAST-MODIFIED:20241231T223607Z
UID:10000544-1750786200-1750793400@osmanshriners.org
SUMMARY:Divan Meeting
DESCRIPTION:Divan Meeting \nTuesday\, June 24th\, 2025\, 5:30pm
URL:https://osmanshriners.org/event/divan-meeting-15/
LOCATION:Osman Shrine\, 2750 Sibley Memorial Hwy\, Eagan\, Minnesota\, 55121
ORGANIZER;CN="Osman Shriners":MAILTO:office@osmanshriners.org
END:VEVENT
BEGIN:VEVENT
DTSTART;TZID=America/Chicago:20250619T080000
DTEND;TZID=America/Chicago:20250621T170000
DTSTAMP:20260422T101451
CREATED:20250115T160123Z
LAST-MODIFIED:20250115T160123Z
UID:10000701-1750320000-1750525200@osmanshriners.org
SUMMARY:Osman WI Dells weekend
DESCRIPTION:June 19th – 21st\, 2025 – Osman WI Dells weekend
URL:https://osmanshriners.org/event/osman-wi-dells-weekend/
ORGANIZER;CN="Osman Shriners":MAILTO:office@osmanshriners.org
END:VEVENT
BEGIN:VEVENT
DTSTART;TZID=America/Chicago:20250610T183000
DTEND;TZID=America/Chicago:20250610T200000
DTSTAMP:20260422T101451
CREATED:20241231T221118Z
LAST-MODIFIED:20241231T221118Z
UID:10000536-1749580200-1749585600@osmanshriners.org
SUMMARY:Osman Stated Meeting
DESCRIPTION:Osman Stated Meeting \nTuesday\, June 10th\, 2025\, 6:30pm
URL:https://osmanshriners.org/event/osman-stated-meeting-7/
LOCATION:Osman Shrine\, 2750 Sibley Memorial Hwy\, Eagan\, Minnesota\, 55121
ORGANIZER;CN="Osman Shriners":MAILTO:office@osmanshriners.org
END:VEVENT
BEGIN:VEVENT
DTSTART;TZID=America/Chicago:20250607T073000
DTEND;TZID=America/Chicago:20250607T190000
DTSTAMP:20260422T101451
CREATED:20250507T164300Z
LAST-MODIFIED:20250508T210135Z
UID:10000800-1749281400-1749322800@osmanshriners.org
SUMMARY:Sign Up for working the Garage Sale
DESCRIPTION:Sign Up for working the Garage Sale \n  \nJune 7th \n   7:30 – 11:00 \n  \n   11:00 – 3:00 \n  \n   3:00 – 7:00  Closing and Clean up \nRSVP below or contact \nMark Sportelli \n952-210-8344 \nmark.sportelli@gmail.com
URL:https://osmanshriners.org/event/sign-up-for-working-the-garage-sale-2/
LOCATION:Osman Shrine Warehouse
ORGANIZER;CN="Osman Shriners":MAILTO:office@osmanshriners.org
END:VEVENT
BEGIN:VEVENT
DTSTART;TZID=America/Chicago:20250605T150000
DTEND;TZID=America/Chicago:20250605T190000
DTSTAMP:20260422T101451
CREATED:20250507T162627Z
LAST-MODIFIED:20250508T210014Z
UID:10000798-1749135600-1749150000@osmanshriners.org
SUMMARY:Organizing for the Garage Sale
DESCRIPTION:Organizing Prior to the Garage Sale \n  \nJune 5th – 3 to 7 PM \nRSVP below or contact \nMark Sportelli \n952-210-8344 \nmark.sportelli@gmail.com
URL:https://osmanshriners.org/event/organizing-for-the-garage-sale-4/
LOCATION:Osman Shrine Warehouse
ORGANIZER;CN="Osman Shriners":MAILTO:office@osmanshriners.org
END:VEVENT
BEGIN:VEVENT
DTSTART;TZID=America/Chicago:20250604T150000
DTEND;TZID=America/Chicago:20250604T190000
DTSTAMP:20260422T101451
CREATED:20250507T162201Z
LAST-MODIFIED:20250508T205918Z
UID:10000797-1749049200-1749063600@osmanshriners.org
SUMMARY:Organizing for the Garage Sale
DESCRIPTION:Organizing Prior to the Garage Sale \n  \nJune 4th – 3 to 7 PM \nRSVP below or contact \nMark Sportelli \n952-210-8344 \nmark.sportelli@gmail.com
URL:https://osmanshriners.org/event/organizing-for-the-garage-sale-3/
LOCATION:Osman Shrine Warehouse
ORGANIZER;CN="Osman Shriners":MAILTO:office@osmanshriners.org
END:VEVENT
BEGIN:VEVENT
DTSTART;TZID=America/Chicago:20250529T150000
DTEND;TZID=America/Chicago:20250529T190000
DTSTAMP:20260422T101451
CREATED:20250507T161843Z
LAST-MODIFIED:20250508T205835Z
UID:10000796-1748530800-1748545200@osmanshriners.org
SUMMARY:Organizing for the Garage Sale
DESCRIPTION:Organizing Prior to the Garage Sale \n  \nMay 29th – 3 to 7 PM \nRSVP below or contact \nMark Sportelli \n952-210-8344 \nmark.sportelli@gmail.com
URL:https://osmanshriners.org/event/organizing-for-the-garage-sale-2/
LOCATION:Osman Shrine Warehouse
ORGANIZER;CN="Osman Shriners":MAILTO:office@osmanshriners.org
END:VEVENT
BEGIN:VEVENT
DTSTART;TZID=America/Chicago:20250528T150000
DTEND;TZID=America/Chicago:20250528T190000
DTSTAMP:20260422T101451
CREATED:20250507T161643Z
LAST-MODIFIED:20250508T205756Z
UID:10000795-1748444400-1748458800@osmanshriners.org
SUMMARY:Organizing for the Garage Sale
DESCRIPTION:Organizing Prior to the Garage Sale \n  \nMay 28th – 3 to 7 PM \nRSVP below or contact \nMark Sportelli \n952-210-8344 \nmark.sportelli@gmail.com
URL:https://osmanshriners.org/event/organizing-for-the-garage-sale/
LOCATION:Osman Shrine Warehouse
ORGANIZER;CN="Osman Shriners":MAILTO:office@osmanshriners.org
END:VEVENT
BEGIN:VEVENT
DTSTART;TZID=America/Chicago:20250527T173000
DTEND;TZID=America/Chicago:20250527T193000
DTSTAMP:20260422T101451
CREATED:20241231T223430Z
LAST-MODIFIED:20241231T223430Z
UID:10000543-1748367000-1748374200@osmanshriners.org
SUMMARY:Divan Meeting
DESCRIPTION:Divan Meeting \nTuesday\, May 27th\, 2025\, 5:30pm
URL:https://osmanshriners.org/event/divan-meeting-14/
LOCATION:Osman Shrine\, 2750 Sibley Memorial Hwy\, Eagan\, Minnesota\, 55121
ORGANIZER;CN="Osman Shriners":MAILTO:office@osmanshriners.org
END:VEVENT
BEGIN:VEVENT
DTSTART;TZID=America/Chicago:20250521T150000
DTEND;TZID=America/Chicago:20250521T190000
DTSTAMP:20260422T101451
CREATED:20250507T160129Z
LAST-MODIFIED:20250508T205616Z
UID:10000792-1747839600-1747854000@osmanshriners.org
SUMMARY:Sign Up for Setting Up
DESCRIPTION:Sign Up for Setting Up \n  \nMay 21st\, 3:00 – 7:00 PM \nOsman Shrine Warehouse \nRSVP below or contact \nMark Sportelli \n952-210-8344 \nmark.sportelli@gmail.com
URL:https://osmanshriners.org/event/sign-up-for-setting-up-5/
LOCATION:Osman Shrine Warehouse
ORGANIZER;CN="Osman Shriners":MAILTO:office@osmanshriners.org
END:VEVENT
END:VCALENDAR