BEGIN:VCALENDAR
VERSION:2.0
PRODID:-//Osman Shriners - ECPv6.15.20//NONSGML v1.0//EN
CALSCALE:GREGORIAN
METHOD:PUBLISH
X-ORIGINAL-URL:https://osmanshriners.org
X-WR-CALDESC:Events for Osman Shriners
REFRESH-INTERVAL;VALUE=DURATION:PT1H
X-Robots-Tag:noindex
X-PUBLISHED-TTL:PT1H
BEGIN:VTIMEZONE
TZID:America/Chicago
BEGIN:DAYLIGHT
TZOFFSETFROM:-0600
TZOFFSETTO:-0500
TZNAME:CDT
DTSTART:20240310T080000
END:DAYLIGHT
BEGIN:STANDARD
TZOFFSETFROM:-0500
TZOFFSETTO:-0600
TZNAME:CST
DTSTART:20241103T070000
END:STANDARD
BEGIN:DAYLIGHT
TZOFFSETFROM:-0600
TZOFFSETTO:-0500
TZNAME:CDT
DTSTART:20250309T080000
END:DAYLIGHT
BEGIN:STANDARD
TZOFFSETFROM:-0500
TZOFFSETTO:-0600
TZNAME:CST
DTSTART:20251102T070000
END:STANDARD
BEGIN:DAYLIGHT
TZOFFSETFROM:-0600
TZOFFSETTO:-0500
TZNAME:CDT
DTSTART:20260308T080000
END:DAYLIGHT
BEGIN:STANDARD
TZOFFSETFROM:-0500
TZOFFSETTO:-0600
TZNAME:CST
DTSTART:20261101T070000
END:STANDARD
END:VTIMEZONE
BEGIN:VEVENT
DTSTART;TZID=America/Chicago:20250118T173000
DTEND;TZID=America/Chicago:20250118T203000
DTSTAMP:20260424T201439
CREATED:20241118T152345Z
LAST-MODIFIED:20241120T170951Z
UID:10000525-1737221400-1737232200@osmanshriners.org
SUMMARY:Daddy-O’s pot luck holiday party
DESCRIPTION:Daddy-O’s potluck holiday party at Larry Norte’s on Jan 18th. Time 5:30pm
URL:https://osmanshriners.org/event/daddy-os-pot-luck-holiday-party/
LOCATION:Up Norte Resort\, 2526 85th Street NW\, Oronoco\, MN\, 55960
ORGANIZER;CN="Daddy-O's":MAILTO:osmandaddyos@gmail.com
END:VEVENT
END:VCALENDAR