BEGIN:VCALENDAR
VERSION:2.0
PRODID:-//Osman Shriners - ECPv6.15.20//NONSGML v1.0//EN
CALSCALE:GREGORIAN
METHOD:PUBLISH
X-WR-CALNAME:Osman Shriners
X-ORIGINAL-URL:https://osmanshriners.org
X-WR-CALDESC:Events for Osman Shriners
REFRESH-INTERVAL;VALUE=DURATION:PT1H
X-Robots-Tag:noindex
X-PUBLISHED-TTL:PT1H
BEGIN:VTIMEZONE
TZID:America/Chicago
BEGIN:DAYLIGHT
TZOFFSETFROM:-0600
TZOFFSETTO:-0500
TZNAME:CDT
DTSTART:20240310T080000
END:DAYLIGHT
BEGIN:STANDARD
TZOFFSETFROM:-0500
TZOFFSETTO:-0600
TZNAME:CST
DTSTART:20241103T070000
END:STANDARD
BEGIN:DAYLIGHT
TZOFFSETFROM:-0600
TZOFFSETTO:-0500
TZNAME:CDT
DTSTART:20250309T080000
END:DAYLIGHT
BEGIN:STANDARD
TZOFFSETFROM:-0500
TZOFFSETTO:-0600
TZNAME:CST
DTSTART:20251102T070000
END:STANDARD
BEGIN:DAYLIGHT
TZOFFSETFROM:-0600
TZOFFSETTO:-0500
TZNAME:CDT
DTSTART:20260308T080000
END:DAYLIGHT
BEGIN:STANDARD
TZOFFSETFROM:-0500
TZOFFSETTO:-0600
TZNAME:CST
DTSTART:20261101T070000
END:STANDARD
END:VTIMEZONE
BEGIN:VEVENT
DTSTART;TZID=America/Chicago:20250201T160000
DTEND;TZID=America/Chicago:20250201T190000
DTSTAMP:20260425T102223
CREATED:20250106T220811Z
LAST-MODIFIED:20250106T220811Z
UID:10000681-1738425600-1738436400@osmanshriners.org
SUMMARY:Torchlight parade
DESCRIPTION:February 1st\, 2025 – Torchlight parade \nThere will be no Oasis for this parade. Line up is at 4:15 pm and step-off is at 5:15 pm. This parade will still be on West 7th like the previous years.
URL:https://osmanshriners.org/event/torchlight-parade/
END:VEVENT
BEGIN:VEVENT
DTSTART;TZID=America/Chicago:20250203T180000
DTEND;TZID=America/Chicago:20250203T193000
DTSTAMP:20260425T102223
CREATED:20250106T205440Z
LAST-MODIFIED:20250106T205440Z
UID:10000615-1738605600-1738611000@osmanshriners.org
SUMMARY:Meat Mavericks Officer & Membership Meeting
DESCRIPTION:This meeting is for all Meat Mavericks\, officers & prospective members. Our officer meeting starts at 6:00 pm and our membership meeting starts at 6:30 pm via Zoom. Come one\, come all. You will be able to use the following Zoom credentials for every call. \n\n\n\n\n\n\n\n\n\n\n\n\n\n\n\n\n\n\n\n\n\n\n\n\n\nJoin Zoom Meeting\nhttps://us06web.zoom.us/j/89895072641?pwd=DNSyhukWZp1B72cgf1d5MixzI1ekV7.1 \nMeeting ID: 898 9507 2641\nPasscode: 392326 \n— \nOne tap mobile\n+13052241968\,\,89895072641#\,\,\,\,*392326# US\n+13092053325\,\,89895072641#\,\,\,\,*392326# US \n— \nDial by your location\n• +1 305 224 1968 US\n• +1 309 205 3325 US\n• +1 312 626 6799 US (Chicago)\n• +1 646 558 8656 US (New York)\n• +1 646 931 3860 US\n• +1 301 715 8592 US (Washington DC)\n• +1 253 205 0468 US\n• +1 253 215 8782 US (Tacoma)\n• +1 346 248 7799 US (Houston)\n• +1 360 209 5623 US\n• +1 386 347 5053 US\n• +1 507 473 4847 US\n• +1 564 217 2000 US\n• +1 669 444 9171 US\n• +1 689 278 1000 US\n• +1 719 359 4580 US\n• +1 720 707 2699 US (Denver) \nMeeting ID: 898 9507 2641\nPasscode: 392326 \n\n\n\n\n\n\n\n\n\n\n\n\n\n\n\n\n\n\n\n\n\n\n\n\n\n\n\n\n\n\n\n\n\n\n\n\n\n\n\n\n\n\n\n\n\n\n\n\n\n\n\n\n\n\n\n\n\n\n\n\n\n\n\n\n\n\n\n\n\n\n\n\n\n\n\n\n\n\n\n\n\n\n\n\n\n\n 
URL:https://osmanshriners.org/event/meat-mavericks-officer-membership-meeting/2025-02-03/
ORGANIZER;CN="Osman Meat Mavericks":MAILTO:smoky@osmanmeatmavericks.com
END:VEVENT
BEGIN:VEVENT
DTSTART;TZID=America/Chicago:20250217T180000
DTEND;TZID=America/Chicago:20250217T190000
DTSTAMP:20260425T102223
CREATED:20250106T204809Z
LAST-MODIFIED:20250106T204918Z
UID:10000555-1739815200-1739818800@osmanshriners.org
SUMMARY:Sportsman's Club Membership Meeting
DESCRIPTION:Monthly meeting for the Sportsman’s Club at the VFW in Roseville\, Minnesota.
URL:https://osmanshriners.org/event/sportsmans-club-membership-meeting/2025-02-17/
LOCATION:VFW Roseville\, 1145 Woodhill Dr.\, Roseville\, MN\, 55113\, United States
END:VEVENT
BEGIN:VEVENT
DTSTART;VALUE=DATE:20250219
DTEND;VALUE=DATE:20250224
DTSTAMP:20260425T102223
CREATED:20250106T220935Z
LAST-MODIFIED:20250106T220935Z
UID:10000682-1739923200-1740355199@osmanshriners.org
SUMMARY:MSA Winter
DESCRIPTION:February 19th – 23rd\, 2025 – MSA Winter – Moosejaw\, SK
URL:https://osmanshriners.org/event/msa-winter/
END:VEVENT
BEGIN:VEVENT
DTSTART;TZID=America/Chicago:20250220T173000
DTEND;TZID=America/Chicago:20250220T200000
DTSTAMP:20260425T102223
CREATED:20241108T160616Z
LAST-MODIFIED:20241108T161015Z
UID:10000466-1740072600-1740081600@osmanshriners.org
SUMMARY:LOH stated meeting
DESCRIPTION:Nov 21st: LOH stated meeting\, for Nobles only to elect 2025 officers. Mtg at Mendota VFW\, to be confirmed by Adjutant Moore.
URL:https://osmanshriners.org/event/loh-stated-meeting/2025-02-20/
ORGANIZER;CN="Legion of Honor":MAILTO:dhbrownco@comcast.net
END:VEVENT
BEGIN:VEVENT
DTSTART;TZID=America/Chicago:20250225T173000
DTEND;TZID=America/Chicago:20250225T203000
DTSTAMP:20260425T102223
CREATED:20241231T222857Z
LAST-MODIFIED:20241231T222857Z
UID:10000540-1740504600-1740515400@osmanshriners.org
SUMMARY:Divan Meeting
DESCRIPTION:Divan Meeting \nTuesday\, February 25th\, 2025\, 5:30pm
URL:https://osmanshriners.org/event/divan-meeting-11/
LOCATION:Osman Shrine\, 2750 Sibley Memorial Hwy\, Eagan\, Minnesota\, 55121
ORGANIZER;CN="Osman Shriners":MAILTO:office@osmanshriners.org
END:VEVENT
BEGIN:VEVENT
DTSTART;TZID=America/Chicago:20250228T173000
DTEND;TZID=America/Chicago:20250228T220000
DTSTAMP:20260425T102223
CREATED:20250108T165246Z
LAST-MODIFIED:20250129T223857Z
UID:10000690-1740763800-1740780000@osmanshriners.org
SUMMARY:Cosmic Shoot
DESCRIPTION:Albert Lea Shrine Club 5 stand nighttime cosmic shoot. Starts at 5:30 at GoodShots Sporting Clays & Golf Course
URL:https://osmanshriners.org/event/cosmic-shoot/
ORGANIZER;CN="Albert Lea Shrine Club":MAILTO:MarcErickson65@gmail.com
END:VEVENT
END:VCALENDAR