BEGIN:VCALENDAR
VERSION:2.0
PRODID:-//Osman Shriners - ECPv6.15.20//NONSGML v1.0//EN
CALSCALE:GREGORIAN
METHOD:PUBLISH
X-WR-CALNAME:Osman Shriners
X-ORIGINAL-URL:https://osmanshriners.org
X-WR-CALDESC:Events for Osman Shriners
REFRESH-INTERVAL;VALUE=DURATION:PT1H
X-Robots-Tag:noindex
X-PUBLISHED-TTL:PT1H
BEGIN:VTIMEZONE
TZID:America/Chicago
BEGIN:DAYLIGHT
TZOFFSETFROM:-0600
TZOFFSETTO:-0500
TZNAME:CDT
DTSTART:20250309T080000
END:DAYLIGHT
BEGIN:STANDARD
TZOFFSETFROM:-0500
TZOFFSETTO:-0600
TZNAME:CST
DTSTART:20251102T070000
END:STANDARD
BEGIN:DAYLIGHT
TZOFFSETFROM:-0600
TZOFFSETTO:-0500
TZNAME:CDT
DTSTART:20260308T080000
END:DAYLIGHT
BEGIN:STANDARD
TZOFFSETFROM:-0500
TZOFFSETTO:-0600
TZNAME:CST
DTSTART:20261101T070000
END:STANDARD
BEGIN:DAYLIGHT
TZOFFSETFROM:-0600
TZOFFSETTO:-0500
TZNAME:CDT
DTSTART:20270314T080000
END:DAYLIGHT
BEGIN:STANDARD
TZOFFSETFROM:-0500
TZOFFSETTO:-0600
TZNAME:CST
DTSTART:20271107T070000
END:STANDARD
END:VTIMEZONE
BEGIN:VEVENT
DTSTART;TZID=America/Chicago:20260421T170000
DTEND;TZID=America/Chicago:20260421T193000
DTSTAMP:20260421T020617
CREATED:20260112T160750Z
LAST-MODIFIED:20260126T170028Z
UID:10000918-1776790800-1776799800@osmanshriners.org
SUMMARY:Lynnhurst
DESCRIPTION:The 2026 Lynnhurst Turkey Dinner will be held on April 21st at the Lost Spur Golf and Event Center. The cost this year is $43 per person or $344 per table. \nThe dinner is held at: \n                The Lost Spur Golf and Event Center \n                2750 Sibley Memorial Highway \n                Eagan\, MN  55121 \n\n                This is also the home of Osman Shrine \n\nAttitude Adjustment Hour: 5pm\,         Dinner: 6:30 pm
URL:https://osmanshriners.org/event/lynnhurst/
END:VEVENT
END:VCALENDAR