BEGIN:VCALENDAR
VERSION:2.0
PRODID:-//Osman Shriners - ECPv6.15.20//NONSGML v1.0//EN
CALSCALE:GREGORIAN
METHOD:PUBLISH
X-ORIGINAL-URL:https://osmanshriners.org
X-WR-CALDESC:Events for Osman Shriners
REFRESH-INTERVAL;VALUE=DURATION:PT1H
X-Robots-Tag:noindex
X-PUBLISHED-TTL:PT1H
BEGIN:VTIMEZONE
TZID:America/Chicago
BEGIN:DAYLIGHT
TZOFFSETFROM:-0600
TZOFFSETTO:-0500
TZNAME:CDT
DTSTART:20240310T080000
END:DAYLIGHT
BEGIN:STANDARD
TZOFFSETFROM:-0500
TZOFFSETTO:-0600
TZNAME:CST
DTSTART:20241103T070000
END:STANDARD
BEGIN:DAYLIGHT
TZOFFSETFROM:-0600
TZOFFSETTO:-0500
TZNAME:CDT
DTSTART:20250309T080000
END:DAYLIGHT
BEGIN:STANDARD
TZOFFSETFROM:-0500
TZOFFSETTO:-0600
TZNAME:CST
DTSTART:20251102T070000
END:STANDARD
BEGIN:DAYLIGHT
TZOFFSETFROM:-0600
TZOFFSETTO:-0500
TZNAME:CDT
DTSTART:20260308T080000
END:DAYLIGHT
BEGIN:STANDARD
TZOFFSETFROM:-0500
TZOFFSETTO:-0600
TZNAME:CST
DTSTART:20261101T070000
END:STANDARD
END:VTIMEZONE
BEGIN:VEVENT
DTSTART;TZID=America/Chicago:20250113T080000
DTEND;TZID=America/Chicago:20250113T170000
DTSTAMP:20260423T024456
CREATED:20250113T170930Z
LAST-MODIFIED:20250113T170930Z
UID:10000692-1736755200-1736787600@osmanshriners.org
SUMMARY:Pipe Band Rehearsal
DESCRIPTION:Weekly Rehearsal of the Osman and Zuhrah Pipes and Drums
URL:https://osmanshriners.org/event/pipe-band-rehearsal-15/2025-01-13/1/
LOCATION:Zuhrah Shrine Center\, 6120 Blue Cir Dr\, Minnetonka\, 55343
ORGANIZER;CN="Pipe Band":MAILTO:purcellrs@aol.com
END:VEVENT
BEGIN:VEVENT
DTSTART;TZID=America/Chicago:20250113T183000
DTEND;TZID=America/Chicago:20250113T203000
DTSTAMP:20260423T024456
CREATED:20250113T170930Z
LAST-MODIFIED:20250113T170930Z
UID:10000693-1736793000-1736800200@osmanshriners.org
SUMMARY:Pipe Band Rehearsal
DESCRIPTION:Weekly Rehearsal of the Osman and Zuhrah Pipes and Drums
URL:https://osmanshriners.org/event/pipe-band-rehearsal-15/2025-01-13/2/
LOCATION:Zuhrah Shrine Center\, 6120 Blue Cir Dr\, Minnetonka\, 55343
ORGANIZER;CN="Pipe Band":MAILTO:purcellrs@aol.com
END:VEVENT
END:VCALENDAR