BEGIN:VCALENDAR
VERSION:2.0
PRODID:-//Osman Shriners - ECPv6.15.20//NONSGML v1.0//EN
CALSCALE:GREGORIAN
METHOD:PUBLISH
X-ORIGINAL-URL:https://osmanshriners.org
X-WR-CALDESC:Events for Osman Shriners
REFRESH-INTERVAL;VALUE=DURATION:PT1H
X-Robots-Tag:noindex
X-PUBLISHED-TTL:PT1H
BEGIN:VTIMEZONE
TZID:America/Chicago
BEGIN:DAYLIGHT
TZOFFSETFROM:-0600
TZOFFSETTO:-0500
TZNAME:CDT
DTSTART:20230312T080000
END:DAYLIGHT
BEGIN:STANDARD
TZOFFSETFROM:-0500
TZOFFSETTO:-0600
TZNAME:CST
DTSTART:20231105T070000
END:STANDARD
BEGIN:DAYLIGHT
TZOFFSETFROM:-0600
TZOFFSETTO:-0500
TZNAME:CDT
DTSTART:20240310T080000
END:DAYLIGHT
BEGIN:STANDARD
TZOFFSETFROM:-0500
TZOFFSETTO:-0600
TZNAME:CST
DTSTART:20241103T070000
END:STANDARD
BEGIN:DAYLIGHT
TZOFFSETFROM:-0600
TZOFFSETTO:-0500
TZNAME:CDT
DTSTART:20250309T080000
END:DAYLIGHT
BEGIN:STANDARD
TZOFFSETFROM:-0500
TZOFFSETTO:-0600
TZNAME:CST
DTSTART:20251102T070000
END:STANDARD
END:VTIMEZONE
BEGIN:VEVENT
DTSTART;TZID=America/Chicago:20241217T163000
DTEND;TZID=America/Chicago:20241217T173000
DTSTAMP:20260422T210103
CREATED:20240311T174933Z
LAST-MODIFIED:20240311T174933Z
UID:10000323-1734453000-1734456600@osmanshriners.org
SUMMARY:December Divan Meeting
DESCRIPTION:December Divan Meeting – Lost Spur
URL:https://osmanshriners.org/event/december-divan-meeting/
LOCATION:Osman Shrine\, 2750 Sibley Memorial Hwy\, Eagan\, Minnesota\, 55121
END:VEVENT
BEGIN:VEVENT
DTSTART;TZID=America/Chicago:20241217T170000
DTEND;TZID=America/Chicago:20241217T180000
DTSTAMP:20260422T210103
CREATED:20240113T043807Z
LAST-MODIFIED:20240113T043807Z
UID:10000247-1734454800-1734458400@osmanshriners.org
SUMMARY:Director's Staff Meeting
DESCRIPTION:Director’s Staff Meeting
URL:https://osmanshriners.org/event/directors-staff-meeting-9/
ORGANIZER;CN="Osman Shriners":MAILTO:office@osmanshriners.org
END:VEVENT
BEGIN:VEVENT
DTSTART;TZID=America/Chicago:20241217T170000
DTEND;TZID=America/Chicago:20241217T210000
DTSTAMP:20260422T210103
CREATED:20240113T043807Z
LAST-MODIFIED:20240113T043807Z
UID:10000246-1734454800-1734469200@osmanshriners.org
SUMMARY:Alexandria Calliope and 4 Wheelers Meeting
DESCRIPTION:6 pm Social\n6:30 pm Dinner \nMay June July Aug Sept\nPot-luck dinner at Shrine Building in Alexandria
URL:https://osmanshriners.org/event/alexandria-calliope-and-4-wheelers-meeting-8/
LOCATION:Alternates
ORGANIZER;CN="Osman Shriners":MAILTO:office@osmanshriners.org
END:VEVENT
BEGIN:VEVENT
DTSTART;TZID=America/Chicago:20241217T173000
DTEND;TZID=America/Chicago:20241217T203000
DTSTAMP:20260422T210103
CREATED:20241204T164708Z
LAST-MODIFIED:20241204T190558Z
UID:10000527-1734456600-1734467400@osmanshriners.org
SUMMARY:Parade To Glory
DESCRIPTION:December 17th\, 5:30 pm – 8:30 pm \nDinner is beef tips & chicken for $27 including tip.
URL:https://osmanshriners.org/event/parade-to-glory/
LOCATION:Osman Shrine\, 2750 Sibley Memorial Hwy\, Eagan\, Minnesota\, 55121
ORGANIZER;CN="Osman Shriners":MAILTO:office@osmanshriners.org
END:VEVENT
END:VCALENDAR