BEGIN:VCALENDAR
VERSION:2.0
PRODID:-//Osman Shriners - ECPv6.15.20//NONSGML v1.0//EN
CALSCALE:GREGORIAN
METHOD:PUBLISH
X-ORIGINAL-URL:https://osmanshriners.org
X-WR-CALDESC:Events for Osman Shriners
REFRESH-INTERVAL;VALUE=DURATION:PT1H
X-Robots-Tag:noindex
X-PUBLISHED-TTL:PT1H
BEGIN:VTIMEZONE
TZID:America/Chicago
BEGIN:DAYLIGHT
TZOFFSETFROM:-0600
TZOFFSETTO:-0500
TZNAME:CDT
DTSTART:20230312T080000
END:DAYLIGHT
BEGIN:STANDARD
TZOFFSETFROM:-0500
TZOFFSETTO:-0600
TZNAME:CST
DTSTART:20231105T070000
END:STANDARD
BEGIN:DAYLIGHT
TZOFFSETFROM:-0600
TZOFFSETTO:-0500
TZNAME:CDT
DTSTART:20240310T080000
END:DAYLIGHT
BEGIN:STANDARD
TZOFFSETFROM:-0500
TZOFFSETTO:-0600
TZNAME:CST
DTSTART:20241103T070000
END:STANDARD
BEGIN:DAYLIGHT
TZOFFSETFROM:-0600
TZOFFSETTO:-0500
TZNAME:CDT
DTSTART:20250309T080000
END:DAYLIGHT
BEGIN:STANDARD
TZOFFSETFROM:-0500
TZOFFSETTO:-0600
TZNAME:CST
DTSTART:20251102T070000
END:STANDARD
END:VTIMEZONE
BEGIN:VEVENT
DTSTART;TZID=America/Chicago:20241216T170000
DTEND;TZID=America/Chicago:20241216T210000
DTSTAMP:20260422T122522
CREATED:20240113T043807Z
LAST-MODIFIED:20240725T165202Z
UID:10000244-1734368400-1734382800@osmanshriners.org
SUMMARY:Osman Provost Christmas Party
DESCRIPTION:Osman Provost Christmas Party @ Mancini’s Char House \nSocial/Dinner 5 pm \nPlease Rsvp to Tom Polzin
URL:https://osmanshriners.org/event/osman-provost-meeting-8/
LOCATION:Mancini’s Char House\, 531 7th St. W\, St. Paul\, MN\, 55102\, United States
ORGANIZER;CN="Osman Provost Guard":MAILTO:Osmanprovostsec@gmail.com
END:VEVENT
BEGIN:VEVENT
DTSTART;TZID=America/Chicago:20241216T170000
DTEND;TZID=America/Chicago:20241216T210000
DTSTAMP:20260422T122522
CREATED:20240113T043807Z
LAST-MODIFIED:20240113T043807Z
UID:10000245-1734368400-1734382800@osmanshriners.org
SUMMARY:Sportsman's Club Meeting
DESCRIPTION:Sportsman’s Club Meeting
URL:https://osmanshriners.org/event/sportsmans-club-meeting-8/
ORGANIZER;CN="Osman Shriners":MAILTO:office@osmanshriners.org
END:VEVENT
BEGIN:VEVENT
DTSTART;TZID=America/Chicago:20241216T180000
DTEND;TZID=America/Chicago:20241216T210000
DTSTAMP:20260422T122522
CREATED:20241014T191759Z
LAST-MODIFIED:20241014T191816Z
UID:10000397-1734372000-1734382800@osmanshriners.org
SUMMARY:Osman Pipes & Drums Holiday Party
DESCRIPTION:Osman Pipes & Drums Holiday Party\nMonday\, December 16\n6 PM\nPlace –\nJoseph’s Grill – Plato Blvd.; St. Paul
URL:https://osmanshriners.org/event/osman-pipes-drums-holiday-party/
ORGANIZER;CN="Pipe Band":MAILTO:purcellrs@aol.com
END:VEVENT
END:VCALENDAR