BEGIN:VCALENDAR
VERSION:2.0
PRODID:-//Osman Shriners - ECPv6.15.20//NONSGML v1.0//EN
CALSCALE:GREGORIAN
METHOD:PUBLISH
X-WR-CALNAME:Osman Shriners
X-ORIGINAL-URL:https://osmanshriners.org
X-WR-CALDESC:Events for Osman Shriners
REFRESH-INTERVAL;VALUE=DURATION:PT1H
X-Robots-Tag:noindex
X-PUBLISHED-TTL:PT1H
BEGIN:VTIMEZONE
TZID:America/Chicago
BEGIN:DAYLIGHT
TZOFFSETFROM:-0600
TZOFFSETTO:-0500
TZNAME:CDT
DTSTART:20230312T080000
END:DAYLIGHT
BEGIN:STANDARD
TZOFFSETFROM:-0500
TZOFFSETTO:-0600
TZNAME:CST
DTSTART:20231105T070000
END:STANDARD
BEGIN:DAYLIGHT
TZOFFSETFROM:-0600
TZOFFSETTO:-0500
TZNAME:CDT
DTSTART:20240310T080000
END:DAYLIGHT
BEGIN:STANDARD
TZOFFSETFROM:-0500
TZOFFSETTO:-0600
TZNAME:CST
DTSTART:20241103T070000
END:STANDARD
BEGIN:DAYLIGHT
TZOFFSETFROM:-0600
TZOFFSETTO:-0500
TZNAME:CDT
DTSTART:20250309T080000
END:DAYLIGHT
BEGIN:STANDARD
TZOFFSETFROM:-0500
TZOFFSETTO:-0600
TZNAME:CST
DTSTART:20251102T070000
END:STANDARD
END:VTIMEZONE
BEGIN:VEVENT
DTSTART;TZID=America/Chicago:20240903T173000
DTEND;TZID=America/Chicago:20240903T183000
DTSTAMP:20260422T032242
CREATED:20240113T043809Z
LAST-MODIFIED:20240113T043809Z
UID:10000185-1725384600-1725388200@osmanshriners.org
SUMMARY:St. Cloud Shrine Club Meeting. 6:00-Social 6:30-Meeting
DESCRIPTION:Social: 6:00\nDinner: Ordering off the menu at 6:30 before starting the meeting – we will break to eat once meals are served.\nLadies are always welcome
URL:https://osmanshriners.org/event/st-cloud-shrine-club-meeting-600-social-630-meeting-10/
LOCATION:House of Pizza – West St. Cloud\, 4040 2nd St S\, St Cloud\, 56301
ORGANIZER;CN="Osman Shriners":MAILTO:office@osmanshriners.org
END:VEVENT
BEGIN:VEVENT
DTSTART;TZID=America/Chicago:20240903T180000
DTEND;TZID=America/Chicago:20240903T203000
DTSTAMP:20260422T032242
CREATED:20240113T043809Z
LAST-MODIFIED:20240409T184611Z
UID:10000184-1725386400-1725395400@osmanshriners.org
SUMMARY:Osman Cycle Corp Meeting
DESCRIPTION:Osman Cycle Corp Meeting \nWe meet for dinner at 6 with meeting at 6:30 at Perkins in Edina on the first Tuesday of each month.
URL:https://osmanshriners.org/event/osman-cycle-corp-meeting-10/
END:VEVENT
END:VCALENDAR